BEGIN:VCALENDAR
VERSION:2.0
PRODID:-//www.stepcorp.org//NONSGML kigkonsult.se iCalcreator 2.30.10//
CALSCALE:GREGORIAN
METHOD:PUBLISH
UID:23bfff92-6ab7-41d1-b189-74b565513ffa
X-WR-CALDESC:MUST BE REGISTERED FOR THIS SERIES BY MARCH 7th!\nTo Register\
 , see (REGISTRATION- Book Study for School-Age Directors and Teachers (Ser
 ies) on the PD Calendar
X-WR-RELCALID:e5c5f10e67de10107a9baf2c9a8d1423
X-WR-TIMEZONE:America/New_York
BEGIN:VTIMEZONE
TZID:America/New_York
BEGIN:STANDARD
TZNAME:EST
DTSTART:20241103T020000
TZOFFSETFROM:-0400
TZOFFSETTO:-0500
RDATE:20251102T020000
END:STANDARD
BEGIN:DAYLIGHT
TZNAME:EDT
DTSTART:20250309T020000
TZOFFSETFROM:-0500
TZOFFSETTO:-0400
RDATE:20260308T020000
END:DAYLIGHT
END:VTIMEZONE
BEGIN:VEVENT
UID:bd5e0afd-211e-4e07-b614-647d2905ea41
DTSTAMP:20260425T041457Z
DESCRIPTION:MUST BE REGISTERED FOR THIS SERIES BY MARCH 7th!\nTo Register\,
  see (REGISTRATION- Book Study for School-Age Directors and Teachers (Seri
 es) on the PD Calendar
DTSTART;TZID=America/New_York:20250312T123000
DTEND;TZID=America/New_York:20250312T133000
LOCATION:
SUMMARY:(Book Study Series) Perspectives on Out of School Time
END:VEVENT
END:VCALENDAR
