BEGIN:VCALENDAR
VERSION:2.0
PRODID:-//www.stepcorp.org//NONSGML kigkonsult.se iCalcreator 2.30.10//
CALSCALE:GREGORIAN
METHOD:PUBLISH
UID:58af30e3-e0d3-4a61-a4e3-b89f00cf33cb
X-WR-CALDESC:MUST BE REGISTERED FOR THIS SERIES BY MARCH 7th!\nTo Register\
 , see (REGISTRATION- Book Study for School-Age Directors and Teachers (Ser
 ies) on the PD Calendar
X-WR-RELCALID:753b834005a9b9d5f9c6de8b643b5b98
X-WR-TIMEZONE:America/New_York
BEGIN:VTIMEZONE
TZID:America/New_York
BEGIN:STANDARD
TZNAME:EST
DTSTART:20241103T020000
TZOFFSETFROM:-0400
TZOFFSETTO:-0500
RDATE:20251102T020000
END:STANDARD
BEGIN:DAYLIGHT
TZNAME:EDT
DTSTART:20250309T020000
TZOFFSETFROM:-0500
TZOFFSETTO:-0400
RDATE:20260308T020000
END:DAYLIGHT
END:VTIMEZONE
BEGIN:VEVENT
UID:27aa299c-e038-4509-80e2-dfb0083e833e
DTSTAMP:20260425T022812Z
DESCRIPTION:MUST BE REGISTERED FOR THIS SERIES BY MARCH 7th!\nTo Register\,
  see (REGISTRATION- Book Study for School-Age Directors and Teachers (Seri
 es) on the PD Calendar
DTSTART;TZID=America/New_York:20250409T123000
DTEND;TZID=America/New_York:20250409T133000
LOCATION:
SUMMARY:(Book Study Series) Environments\, Relationships and Experiences
END:VEVENT
END:VCALENDAR
