BEGIN:VCALENDAR
VERSION:2.0
PRODID:-//www.stepcorp.org//NONSGML kigkonsult.se iCalcreator 2.30.10//
CALSCALE:GREGORIAN
METHOD:PUBLISH
UID:8d526a3e-2590-46fe-aea8-e1928f003c62
X-WR-CALDESC:
X-WR-RELCALID:71be82fe8c74e7745d9fa111e2ddc522
X-WR-TIMEZONE:America/New_York
BEGIN:VTIMEZONE
TZID:America/New_York
BEGIN:STANDARD
TZNAME:EST
DTSTART:20241103T020000
TZOFFSETFROM:-0400
TZOFFSETTO:-0500
RDATE:20251102T020000
END:STANDARD
BEGIN:DAYLIGHT
TZNAME:EDT
DTSTART:20250309T020000
TZOFFSETFROM:-0500
TZOFFSETTO:-0400
RDATE:20260308T020000
END:DAYLIGHT
END:VTIMEZONE
BEGIN:VEVENT
UID:0902fce4-4869-4cce-8120-7a16afd73eb5
DTSTAMP:20260425T022434Z
DESCRIPTION:
DTSTART;TZID=America/New_York:20250422T183000
DTEND;TZID=America/New_York:20250422T203000
LOCATION:https://www.papdregistry.org/register.aspx?evid=373849
SUMMARY:Family-Based Module 1: Budgets\, Projections\, and Planning
END:VEVENT
END:VCALENDAR
