BEGIN:VCALENDAR
VERSION:2.0
PRODID:-//www.stepcorp.org//NONSGML kigkonsult.se iCalcreator 2.30.10//
CALSCALE:GREGORIAN
METHOD:PUBLISH
UID:5f36f103-0dbf-4183-a27a-6c95fe438428
X-WR-CALDESC:MUST BE REGISTERED FOR THIS SERIES BY MARCH 7th!\nTo Register\
 , see (REGISTRATION- Book Study for School-Age Directors and Teachers (Ser
 ies) on the PD Calendar
X-WR-RELCALID:f994e038b01bd16af0e80820f26036e6
X-WR-TIMEZONE:America/New_York
BEGIN:VTIMEZONE
TZID:America/New_York
BEGIN:STANDARD
TZNAME:EST
DTSTART:20241103T020000
TZOFFSETFROM:-0400
TZOFFSETTO:-0500
RDATE:20251102T020000
END:STANDARD
BEGIN:DAYLIGHT
TZNAME:EDT
DTSTART:20250309T020000
TZOFFSETFROM:-0500
TZOFFSETTO:-0400
RDATE:20260308T020000
END:DAYLIGHT
END:VTIMEZONE
BEGIN:VEVENT
UID:6b547a37-1efa-4740-8725-7b64ef61d073
DTSTAMP:20260425T022648Z
DESCRIPTION:MUST BE REGISTERED FOR THIS SERIES BY MARCH 7th!\nTo Register\,
  see (REGISTRATION- Book Study for School-Age Directors and Teachers (Seri
 es) on the PD Calendar
DTSTART;TZID=America/New_York:20250423T123000
DTEND;TZID=America/New_York:20250423T133000
LOCATION:
SUMMARY:(Book Study Series) Social Skills
END:VEVENT
END:VCALENDAR
