BEGIN:VCALENDAR
VERSION:2.0
PRODID:-//www.stepcorp.org//NONSGML kigkonsult.se iCalcreator 2.30.10//
CALSCALE:GREGORIAN
METHOD:PUBLISH
UID:acc9098a-689e-4123-89e6-dbc403921b70
X-WR-CALDESC:
X-WR-RELCALID:608228706e596e43443febe2526f7c24
X-WR-TIMEZONE:America/New_York
BEGIN:VTIMEZONE
TZID:America/New_York
BEGIN:STANDARD
TZNAME:EST
DTSTART:20241103T020000
TZOFFSETFROM:-0400
TZOFFSETTO:-0500
RDATE:20251102T020000
END:STANDARD
BEGIN:DAYLIGHT
TZNAME:EDT
DTSTART:20250309T020000
TZOFFSETFROM:-0500
TZOFFSETTO:-0400
RDATE:20260308T020000
END:DAYLIGHT
END:VTIMEZONE
BEGIN:VEVENT
UID:7dcc46bb-3eca-44ec-b2ec-85755e13fb68
DTSTAMP:20260425T022806Z
DESCRIPTION:
DTSTART;TZID=America/New_York:20250423T100000
DTEND;TZID=America/New_York:20250423T130000
LOCATION:https://www.papdregistry.org/register.aspx?evid=373880
SUMMARY:Center-Based Module 4: Recruiting and Retaining Staff
END:VEVENT
END:VCALENDAR
