BEGIN:VCALENDAR
VERSION:2.0
PRODID:-//www.stepcorp.org//NONSGML kigkonsult.se iCalcreator 2.30.10//
CALSCALE:GREGORIAN
METHOD:PUBLISH
UID:2b2d253e-5c1c-4466-85a7-6e7a944dea21
X-WR-CALDESC:
X-WR-RELCALID:1f4fcbe6be7c167f417ccd9fc8e5ee4c
X-WR-TIMEZONE:America/New_York
BEGIN:VTIMEZONE
TZID:America/New_York
BEGIN:STANDARD
TZNAME:EST
DTSTART:20241103T020000
TZOFFSETFROM:-0400
TZOFFSETTO:-0500
RDATE:20251102T020000
RDATE:20261101T020000
END:STANDARD
BEGIN:DAYLIGHT
TZNAME:EDT
DTSTART:20250309T020000
TZOFFSETFROM:-0500
TZOFFSETTO:-0400
RDATE:20260308T020000
END:DAYLIGHT
END:VTIMEZONE
BEGIN:VEVENT
UID:ada9cdc1-233a-4d0e-a5fa-f550e10a1f9c
DTSTAMP:20260425T004228Z
DESCRIPTION:
DTSTART;TZID=America/New_York:20250506T183000
DTEND;TZID=America/New_York:20250506T203000
LOCATION:https://www.papdregistry.org/register.aspx?evid=373850
SUMMARY:Family-Based Module 2: Financial Reports and Internal Controls
END:VEVENT
END:VCALENDAR
