BEGIN:VCALENDAR
VERSION:2.0
PRODID:-//www.stepcorp.org//NONSGML kigkonsult.se iCalcreator 2.30.10//
CALSCALE:GREGORIAN
METHOD:PUBLISH
UID:6a28c5c1-6fb5-4dca-bfc3-b3b6e73d4e54
X-WR-CALDESC:Dear Teachers:\nCome ready to share resources\, create partner
 ships\, & collaborate in a noncompetitive environment. We will meet from 1
 :00pm—2:00pm.
X-WR-RELCALID:bb0cc3935fcac88c7b168e139cec7cf5
X-WR-TIMEZONE:America/New_York
BEGIN:VTIMEZONE
TZID:America/New_York
BEGIN:STANDARD
TZNAME:EST
DTSTART:20251102T020000
TZOFFSETFROM:-0400
TZOFFSETTO:-0500
RDATE:20261101T020000
END:STANDARD
BEGIN:DAYLIGHT
TZNAME:EDT
DTSTART:20250309T020000
TZOFFSETFROM:-0500
TZOFFSETTO:-0400
RDATE:20260308T020000
RDATE:20270314T020000
END:DAYLIGHT
END:VTIMEZONE
BEGIN:VEVENT
UID:744b58ab-8b1c-475a-9e00-d2f9f7b6deb8
DTSTAMP:20260424T111349Z
DESCRIPTION:Dear Teachers:\nCome ready to share resources\, create partners
 hips\, & collaborate in a noncompetitive environment. We will meet from 1:
 00pm—2:00pm.
DTSTART;TZID=America/New_York:20260115T130000
DTEND;TZID=America/New_York:20260115T140000
LOCATION:https://teams.microsoft.com/l/meetup-join/19%3ameeting_NzUwNjU5NTU
 tNzEwMS00MWY1LWE1MDQtZGQ2ZGYyNzMxNmY0%40thread.v2/0?context=%7b%22Tid%22%3
 a%2253554671-f37e-4a8f-9d70-0bb776bec59c%22%2c%22Oid%22%3a%22c7fc529d-c712
 -4bdc-86e1-e60fd919441e%22%7d
SUMMARY:ELRC Region 7 Teacher's Network
END:VEVENT
END:VCALENDAR
