BEGIN:VCALENDAR
VERSION:2.0
PRODID:-//www.stepcorp.org//NONSGML kigkonsult.se iCalcreator 2.30.10//
CALSCALE:GREGORIAN
METHOD:PUBLISH
UID:08c5971b-373b-4d23-b008-6add527558b8
X-WR-CALDESC:
X-WR-RELCALID:75c310fd6750842501dea04bd8f5a8ab
X-WR-TIMEZONE:America/New_York
BEGIN:VTIMEZONE
TZID:America/New_York
BEGIN:STANDARD
TZNAME:EST
DTSTART:20281105T020000
TZOFFSETFROM:-0400
TZOFFSETTO:-0500
RDATE:20291104T020000
END:STANDARD
BEGIN:DAYLIGHT
TZNAME:EDT
DTSTART:20280312T020000
TZOFFSETFROM:-0500
TZOFFSETTO:-0400
RDATE:20290311T020000
RDATE:20300310T020000
END:DAYLIGHT
END:VTIMEZONE
BEGIN:VEVENT
UID:b768eb90-8cf4-4da5-856c-413e3c0a4458
DTSTAMP:20260421T223639Z
DESCRIPTION:
DTSTART;TZID=America/New_York:20281225T000000
DTEND;TZID=America/New_York:20281225T235900
LOCATION:
SUMMARY:Christmas Day - STEP Offices Closed
END:VEVENT
END:VCALENDAR
