BEGIN:VCALENDAR
VERSION:2.0
PRODID:-//www.stepcorp.org//NONSGML kigkonsult.se iCalcreator 2.30.10//
CALSCALE:GREGORIAN
METHOD:PUBLISH
UID:02d3faf5-1af1-4926-8b1a-0e6d6942db00
X-WR-CALDESC:
X-WR-RELCALID:b65c83ea0acdd2c5c004bc4f86cabdda
X-WR-TIMEZONE:America/New_York
BEGIN:VTIMEZONE
TZID:America/New_York
BEGIN:STANDARD
TZNAME:EST
DTSTART:20291104T020000
TZOFFSETFROM:-0400
TZOFFSETTO:-0500
RDATE:20301103T020000
END:STANDARD
BEGIN:DAYLIGHT
TZNAME:EDT
DTSTART:20290311T020000
TZOFFSETFROM:-0500
TZOFFSETTO:-0400
RDATE:20300310T020000
RDATE:20310309T020000
END:DAYLIGHT
END:VTIMEZONE
BEGIN:VEVENT
UID:3a4b9dbd-ad32-42b3-beb3-642a6a1c3b4e
DTSTAMP:20260424T201612Z
DESCRIPTION:
DTSTART;TZID=America/New_York:20291225T000000
DTEND;TZID=America/New_York:20291225T235900
LOCATION:
SUMMARY:Christmas Day - STEP Offices Closed
END:VEVENT
END:VCALENDAR
