BEGIN:VCALENDAR
VERSION:2.0
PRODID:-//www.stepcorp.org//NONSGML kigkonsult.se iCalcreator 2.30.10//
CALSCALE:GREGORIAN
METHOD:PUBLISH
UID:c0c5c777-a6e1-4737-946c-61f801ee9ff8
X-WR-CALDESC:
X-WR-RELCALID:5a3866061a4f39f6c4ccf9b71fb9d70b
X-WR-TIMEZONE:America/New_York
BEGIN:VTIMEZONE
TZID:America/New_York
BEGIN:STANDARD
TZNAME:EST
DTSTART:20301103T020000
TZOFFSETFROM:-0400
TZOFFSETTO:-0500
RDATE:20311102T020000
END:STANDARD
BEGIN:DAYLIGHT
TZNAME:EDT
DTSTART:20300310T020000
TZOFFSETFROM:-0500
TZOFFSETTO:-0400
RDATE:20310309T020000
RDATE:20320314T020000
END:DAYLIGHT
END:VTIMEZONE
BEGIN:VEVENT
UID:a6ea93be-b165-4b88-beb9-5581be08c93c
DTSTAMP:20260425T172351Z
DESCRIPTION:
DTSTART;TZID=America/New_York:20301225T000000
DTEND;TZID=America/New_York:20301225T235900
LOCATION:
SUMMARY:Christmas Day - STEP Offices Closed
END:VEVENT
END:VCALENDAR
